BEGIN:VCALENDAR
VERSION:2.0
PRODID:-//hacksw/handcal//NONSGML v1.0//EN
BEGIN:VEVENT
DTSTART:20250710T190000
DTEND:20250710T230000
LOCATION:Le 23 \nRue de la Coulouvrenière, 23 \n1204 Genève
ORGANIZER;CN=Juena Kraja:MAILTO:juena.kraja@em-strasbourg.eu
SUMMARY:Afterwork à Genève
DESCRIPTION:\nNous avons le plaisir de vous inviter à notre prochain afterwork, et cette fois-ci cela se passe à Genève !\nRejoignez-nous :📅 Jeudi 10 juillet à 19h\n📍 Le 23 - Rue de la Coulouvrenière,...
URL:https://alumni.em-strasbourg.eu/de/event/afterwork-a-geneve/2025/07/10/120
BEGIN:VALARM
TRIGGER:-P0DT1H0M0S
ACTION:DISPLAY
END:VALARM
END:VEVENT
END:VCALENDAR