BEGIN:VCALENDAR
VERSION:2.0
PRODID:-//hacksw/handcal//NONSGML v1.0//EN
BEGIN:VEVENT
DTSTART:20250903T170000
DTEND:20250903T200000
LOCATION:Parc Jean-Drapeau
ORGANIZER;CN=Juena Kraja:MAILTO:juena.kraja@em-strasbourg.eu
SUMMARY:Pique-nique de rentrée - Montréal
DESCRIPTION:Et si on prolongeait l’été ensemble ? ☀️Rejoignez-nous pour passer un agréable moment entre Alumni : 📅 Mardi 3 septembre, dès 17h00 📍 Parc Jean-Drapeau (devant la statue des Trois disques)Que vous...
URL:https://alumni.em-strasbourg.eu/de/event/pique-nique-de-rentree-montreal/2025/09/03/122
BEGIN:VALARM
TRIGGER:-P0DT1H0M0S
ACTION:DISPLAY
END:VALARM
END:VEVENT
END:VCALENDAR