BEGIN:VCALENDAR
VERSION:2.0
PRODID:-//hacksw/handcal//NONSGML v1.0//EN
BEGIN:VEVENT
DTSTART:20250925T153000
DTEND:20250927T120000
LOCATION:Hambourg
ORGANIZER;CN=Juena Kraja:MAILTO:juena.kraja@em-strasbourg.eu
SUMMARY:Congrès CAFA à Hambourg
DESCRIPTION:🌍 Congrès Annuel des Clubs d’Affaires Franco-Allemands 2025\n✨Depuis 20 ans, les congrès des Clubs d’Affaires Franco-Allemands constituent un rendez-vous incontournable de la vie du réseau. Ils...
URL:https://alumni.em-strasbourg.eu/de/event/congres-cafa-a-hambourg/2025/09/25/134
BEGIN:VALARM
TRIGGER:-P0DT1H0M0S
ACTION:DISPLAY
END:VALARM
END:VEVENT
END:VCALENDAR