BEGIN:VCALENDAR
VERSION:2.0
PRODID:-//hacksw/handcal//NONSGML v1.0//EN
BEGIN:VEVENT
DTSTART:20260204T180000
DTEND:20260204T230000
LOCATION:L’Avant-Garde Artisans Brasseurs \n5500 Hochelaga #150
ORGANIZER;CN=Juliette Schmidt:MAILTO:juliette.schmidt@em-strasbourg.eu
SUMMARY:Rassemblement Olympique
DESCRIPTION:L’EMbassade montréalaise vous invite à un Rassemblement Olympique.Venez vivre un moment convivial entre Alumni, entre symbole fort de Montréal et bonne table locale.Au programme : photo de groupe,...
URL:https://alumni.em-strasbourg.eu/de/event/rassemblement-olympique/2026/02/04/149
BEGIN:VALARM
TRIGGER:-P0DT1H0M0S
ACTION:DISPLAY
END:VALARM
END:VEVENT
END:VCALENDAR