BEGIN:VCALENDAR
VERSION:2.0
PRODID:-//hacksw/handcal//NONSGML v1.0//EN
BEGIN:VEVENT
DTSTART:20260507T190000
DTEND:20260507T230000
LOCATION:Le Bateleur \n12 Cours Saleya \n06300 Nice
ORGANIZER;CN=Juliette Schmidt:MAILTO:juliette.schmidt@em-strasbourg.eu
SUMMARY:Afterwork Alumni à Nice
DESCRIPTION:\nL’EMbassade niçoise vous donne rendez-vous pour un afterwork Alumni au cœur du Vieux-Nice, à deux pas de la Méditerranée.Un lieu chaleureux pour se retrouver entre Alumni, faire de nouvelles...
URL:https://alumni.em-strasbourg.eu/de/event/afterwork-alumni-a-nice/2026/05/07/158
BEGIN:VALARM
TRIGGER:-P0DT1H0M0S
ACTION:DISPLAY
END:VALARM
END:VEVENT
END:VCALENDAR