BEGIN:VCALENDAR
VERSION:2.0
PRODID:-//hacksw/handcal//NONSGML v1.0//EN
BEGIN:VEVENT
DTSTART:20240320T190000
DTEND:20240320T203000
LOCATION:EM STRASBOURG \n61, Avenue de la Forêt-Noire \n67000 STRASBOURG
ORGANIZER;CN=CHLOE STEPHANY:MAILTO:chloe.stephany@em-strasbourg.eu
SUMMARY:ASSEMBLEE GENERALE - 20 mars 2024
DESCRIPTION:\nAssemblée Générale EM Strasbourg Alumni 20 mars 2024Le Comité Directeur, représenté par Sylvère LAUDE, Président de l’Association EM Strasbourg Alumni, est particulièrement heureux de vous inviter à...
URL:https://alumni.em-strasbourg.eu/de/event/assemblee-generale-20-mars-2024/2024/03/20/90
BEGIN:VALARM
TRIGGER:-P0DT1H0M0S
ACTION:DISPLAY
END:VALARM
END:VEVENT
END:VCALENDAR