BEGIN:VCALENDAR
VERSION:2.0
PRODID:-//hacksw/handcal//NONSGML v1.0//EN
BEGIN:VEVENT
DTSTART:20251204T190000
DTEND:20251204T230000
LOCATION:The Drunky Stork Social Club \n24 rue Vieux Marché aux Vins \n67000 Strasbourg
ORGANIZER;CN=Juena Kraja:MAILTO:juena.kraja@em-strasbourg.eu
SUMMARY:Un dîner, trois regards : l’industrie face aux défis climatiques
DESCRIPTION: Un dîner, trois regards : l’industrie face aux défis climatiques Au cours d’un dîner assis en trois temps, chaque plat sera l’occasion de changer de place et d’interagir avec de nouveaux...
URL:https://alumni.em-strasbourg.eu/en/event/un-diner-trois-regards-l-industrie-face-aux-defis-climatiques/2025/12/04/128
BEGIN:VALARM
TRIGGER:-P0DT1H0M0S
ACTION:DISPLAY
END:VALARM
END:VEVENT
END:VCALENDAR