BEGIN:VCALENDAR
VERSION:2.0
PRODID:-//hacksw/handcal//NONSGML v1.0//EN
BEGIN:VEVENT
DTSTART:20251210T190000
DTEND:20251210T230000
LOCATION:Stüssibrunnen - Zum Königstuhl
ORGANIZER;CN=Juena Kraja:MAILTO:juena.kraja@em-strasbourg.eu
SUMMARY:Repas de Noël à Zurich
DESCRIPTION:\nChers Alumni,\n🎄🎅 Le traditionnel repas de Noël aura lieu à Zurich le mercredi 10 décembre.\nPour nous permettre d’adapter la réservation au nombre de participants, l’inscription est...
URL:https://alumni.em-strasbourg.eu/en/event/repas-de-noel-a-zurich/2025/12/10/138
BEGIN:VALARM
TRIGGER:-P0DT1H0M0S
ACTION:DISPLAY
END:VALARM
END:VEVENT
END:VCALENDAR