BEGIN:VCALENDAR
VERSION:2.0
PRODID:-//hacksw/handcal//NONSGML v1.0//EN
BEGIN:VEVENT
DTSTART:20260121T191500
DTEND:20260121T223000
LOCATION:Sauvage \n5 rue Dancet  \n1205 Genève
ORGANIZER;CN=Juena Kraja:MAILTO:juena.kraja@em-strasbourg.eu
SUMMARY:Dîner de Nouvelle Année
DESCRIPTION:\nL’EMbassade Alumni de Genève a le plaisir de vous convier à son dîner de Nouvelle Année !\nEn ce début d’année, et dans la continuité de l’afterwork de cet été, Arnaud Bodet vous invite à célébrer...
URL:https://alumni.em-strasbourg.eu/en/event/diner-de-nouvelle-annee/2026/01/21/146
BEGIN:VALARM
TRIGGER:-P0DT1H0M0S
ACTION:DISPLAY
END:VALARM
END:VEVENT
END:VCALENDAR