BEGIN:VCALENDAR
VERSION:2.0
PRODID:-//hacksw/handcal//NONSGML v1.0//EN
BEGIN:VEVENT
DTSTART:20250616T183000
DTEND:20250616T210000
LOCATION:Bierwerk \nGustav-Gull-Platz 10, Europaallee \n8004 Zurich
ORGANIZER;CN=Juena Kraja:MAILTO:juena.kraja@em-strasbourg.eu
SUMMARY:Afterwork Zurich
DESCRIPTION:L’ambassade EM Strasbourg de Zurich a le plaisir de vous inviter à son prochain afterwork ! \nRendez-vous📅 lundi 16 juin\n🕗 à partir de 18h30\n📍 au Bierwerk - Europaallee\nQue vous soyez diplômé...
URL:https://alumni.em-strasbourg.eu/fr/event/afterwork-zurich/2025/06/16/117
BEGIN:VALARM
TRIGGER:-P0DT1H0M0S
ACTION:DISPLAY
END:VALARM
END:VEVENT
END:VCALENDAR