BEGIN:VCALENDAR
VERSION:2.0
PRODID:-//hacksw/handcal//NONSGML v1.0//EN
BEGIN:VEVENT
DTSTART:20250930T183000
DTEND:20250930T233000
LOCATION:Lotti \nWerdmuehleplatz 3 \n8001 Zurich
ORGANIZER;CN=Juena Kraja:MAILTO:juena.kraja@em-strasbourg.eu
SUMMARY:Afterwork de rentrée à Zurich
DESCRIPTION:Afterwork de rentrée à Zurich\nLa rentrée, ce n’est pas que pour les étudiants ! Les diplômés se donnent aussi rendez-vous pour bien commencer l'année. Rejoignez-les : \n📅 Mardi 30 septembre🕖 18h30📍...
URL:https://alumni.em-strasbourg.eu/fr/event/afterwork-de-rentree-a-zurich/2025/09/30/125
BEGIN:VALARM
TRIGGER:-P0DT1H0M0S
ACTION:DISPLAY
END:VALARM
END:VEVENT
END:VCALENDAR