BEGIN:VCALENDAR
VERSION:2.0
PRODID:-//hacksw/handcal//NONSGML v1.0//EN
BEGIN:VEVENT
DTSTART:20251026T190000
DTEND:20251030T230000
LOCATION:New York
ORGANIZER;CN=Juena Kraja:MAILTO:juena.kraja@em-strasbourg.eu
SUMMARY:Retrouvailles à New York
DESCRIPTION:Chers Alumni,\nNous avons le plaisir de vous annoncer une occasion rare de retrouvailles à New York. \nRémi Stangret, membre du Bureau Alumni sera présent dans la ville du 26 au 30 octobre 2025, et...
URL:https://alumni.em-strasbourg.eu/fr/event/retrouvailles-a-new-york/2025/10/26/129
BEGIN:VALARM
TRIGGER:-P0DT1H0M0S
ACTION:DISPLAY
END:VALARM
END:VEVENT
END:VCALENDAR