BEGIN:VCALENDAR
VERSION:2.0
PRODID:-//hacksw/handcal//NONSGML v1.0//EN
BEGIN:VEVENT
DTSTART:20251112T180000
DTEND:20251112T210000
LOCATION:Randolph Pub Ludique Quartier Latin \n2041 rue Saint-Denis \nH2X 3K8 Montreal
ORGANIZER;CN=Juena Kraja:MAILTO:juena.kraja@em-strasbourg.eu
SUMMARY:Soirée ludique à Montréal
DESCRIPTION:\nL’antenne montréalaise des Alumni, représentée par notre EMbassadrice Stéphanie Gaudrat, vous convie à une soirée ludique !\nRéservez votre soirée dès maintenant :📅 Mercredi 12 novembre\n🕒 A 18h\n📍 ...
URL:https://alumni.em-strasbourg.eu/fr/event/soiree-ludique-a-montreal/2025/11/12/135
BEGIN:VALARM
TRIGGER:-P0DT1H0M0S
ACTION:DISPLAY
END:VALARM
END:VEVENT
END:VCALENDAR