BEGIN:VCALENDAR
VERSION:2.0
PRODID:-//hacksw/handcal//NONSGML v1.0//EN
BEGIN:VEVENT
DTSTART:20260325T183000
DTEND:20260325T230000
LOCATION:Le Croque Bedaine \n139 Avenue du bois, Luxembourg \n1250 Luxembourg
ORGANIZER;CN=Juliette Schmidt:MAILTO:juliette.schmidt@em-strasbourg.eu
SUMMARY:Dégustation de bières au Luxembourg
DESCRIPTION:\nL’EMbassade de Luxembourg vous invite à une soirée originale autour d’une dégustation de bières artisanales au cœur du restaurant Le Croque Bedaine. Profitez d’un moment de partage et de découverte ...
URL:https://alumni.em-strasbourg.eu/fr/event/degustation-de-bieres-au-luxembourg/2026/03/25/154
BEGIN:VALARM
TRIGGER:-P0DT1H0M0S
ACTION:DISPLAY
END:VALARM
END:VEVENT
END:VCALENDAR