BEGIN:VCALENDAR
VERSION:2.0
PRODID:-//hacksw/handcal//NONSGML v1.0//EN
BEGIN:VEVENT
DTSTART:20260429T183000
DTEND:20260429T233000
LOCATION:Shadok \nRue du Bassin d'Austerlitz \n67100 Strasbourg
ORGANIZER;CN=Juliette Schmidt:MAILTO:juliette.schmidt@em-strasbourg.eu
SUMMARY:Assemblée Générale 2026
DESCRIPTION:\nLe Comité Directeur, représenté par Sylvère LAUDE, Président de l’Association EM Strasbourg Alumni, a le plaisir de vous convier à l’Assemblée Générale de l’association EM Strasbourg...
URL:https://alumni.em-strasbourg.eu/fr/event/assemblee-generale-2026/2026/04/29/155
BEGIN:VALARM
TRIGGER:-P0DT1H0M0S
ACTION:DISPLAY
END:VALARM
END:VEVENT
END:VCALENDAR