BEGIN:VCALENDAR
VERSION:2.0
PRODID:-//hacksw/handcal//NONSGML v1.0//EN
BEGIN:VEVENT
DTSTART:20260409T203000
DTEND:20260409T233000
LOCATION:Picalagartos Azotea Restaurant & Bar \nGran Vía 21, Centro  \n28013  Madrid
ORGANIZER;CN=Juliette Schmidt:MAILTO:juliette.schmidt@em-strasbourg.eu
SUMMARY:Afterwork premières rencontres à Madrid
DESCRIPTION:\nLe deuxième afterwork Alumni à Madrid arrive !Retrouvons-nous au Picalagartos Azotea Restaurant & Bar, avec son merveilleux rooftop offrant une vue à couper le souffle. Ce sera le moment idéal pour ...
URL:https://alumni.em-strasbourg.eu/fr/event/afterwork-premieres-rencontres-a-madrid/2026/04/09/156
BEGIN:VALARM
TRIGGER:-P0DT1H0M0S
ACTION:DISPLAY
END:VALARM
END:VEVENT
END:VCALENDAR