BEGIN:VCALENDAR
VERSION:2.0
PRODID:-//hacksw/handcal//NONSGML v1.0//EN
BEGIN:VEVENT
DTSTART:20221026T190000
DTEND:20221026T203000
LOCATION:EM Strasbourg Business School \n61 avenue de la Forêt Noire \n67000 Strasbourg
ORGANIZER;CN=Smeeta Nozius:MAILTO:
SUMMARY:CONVOCATION  : ASSEMBLEE GENERALE de 2021 de l'Association EM Strasbourg Alumni
DESCRIPTION:Nous sommes heureux de vous inviter à l’Assemblée Générale Ordinaire de l’Association EM Strasbourg Alumni :  Mercredi 26 octobre 2022 à 19h *à l’EM Strasbourg Business School61 avenue de la Forêt...
URL:https://alumni.em-strasbourg.eu/fr/event/convocation-assemblee-generale-de-2021-de-l-association-em-strasbourg-alumni/2022/10/26/68
BEGIN:VALARM
TRIGGER:-P0DT1H0M0S
ACTION:DISPLAY
END:VALARM
END:VEVENT
END:VCALENDAR